BEGIN:VCALENDAR
PRODID://WordPress//Event-Post-V5.9.2//EN
VERSION:2.0
BEGIN:VTIMEZONE
TZID:Europe/Paris
BEGIN:DAYLIGHT
TZOFFSETFROM:+0100
TZOFFSETTO:+0200
DTSTART:19700329T020000
RRULE:FREQ=YEARLY;BYDAY=-1SU;BYMONTH=3
END:DAYLIGHT
BEGIN:STANDARD
TZOFFSETFROM:+0200
TZOFFSETTO:+0100
TZNAME:CET
DTSTART:19701025T030000
RRULE:FREQ=YEARLY;BYDAY=-1SU;BYMONTH=10
END:STANDARD
END:VTIMEZONE
BEGIN:VEVENT
SUMMARY:4. media - Giornata delle religioni
UID:https://losone.sm.edu.ti.ch/uscite/quarta-media-giornata-delle-religioni-2/
LOCATION:
DTSTAMP:20260423
DTSTART;TZID=Europe/Paris:20260423
DTEND;TZID=Europe/Paris:20260423
DESCRIPTION:GIO 23 aprile 2026 le classi di quarta media parteciperanno alla Giornata
delle religioni.
Gli allievi partiranno dalla nostra sede e si recheranno in visita ai
cinque luoghi di culto che hanno aderito al progetto, e al Centro Giovanile
(che partecipa quale spazio laico civile). Durante la giornata le classi
avranno modo di conoscere le principali comunità religiose attive a
Losone.
ClasseAccompagnatori4AmattinaMorazzini, Regazzi4ApomeriggioMorazzini,
Regazzi4BmattinaBeltramini, Badà4BpomeriggioBeltramini,
Zanin4CmattinaPaganetti, Da Cunha 4CpomeriggioPaganetti,
Nessi4DmattinaSpeziale, Fenaroli4DpomeriggioSpeziale,
Gilardi4EmattinaIaquinta, Udovisi 4EpomeriggioIaquinta, Madonna 4Fmattina
Tolomeo, Santimone4FpomeriggioTolomeo, Santimone
END:VEVENT
END:VCALENDAR