BEGIN:VCALENDAR
PRODID://WordPress//Event-Post-V5.9.2//EN
VERSION:2.0
BEGIN:VTIMEZONE
TZID:Europe/Paris
BEGIN:DAYLIGHT
TZOFFSETFROM:+0100
TZOFFSETTO:+0200
DTSTART:19700329T020000
RRULE:FREQ=YEARLY;BYDAY=-1SU;BYMONTH=3
END:DAYLIGHT
BEGIN:STANDARD
TZOFFSETFROM:+0200
TZOFFSETTO:+0100
TZNAME:CET
DTSTART:19701025T030000
RRULE:FREQ=YEARLY;BYDAY=-1SU;BYMONTH=10
END:STANDARD
END:VTIMEZONE
BEGIN:VEVENT
SUMMARY:2B, 2C - Giornata musicale
UID:https://losone.sm.edu.ti.ch/uscite/2b-2c-giornata-musicale/
LOCATION:
DTSTAMP:20260430
DTSTART;TZID=Europe/Paris:20260430
DTEND;TZID=Europe/Paris:20260430
DESCRIPTION:
END:VEVENT
END:VCALENDAR