BEGIN:VCALENDAR
PRODID://WordPress//Event-Post-V5.9.2//EN
VERSION:2.0
BEGIN:VTIMEZONE
TZID:Europe/Paris
BEGIN:DAYLIGHT
TZOFFSETFROM:+0100
TZOFFSETTO:+0200
DTSTART:19700329T020000
RRULE:FREQ=YEARLY;BYDAY=-1SU;BYMONTH=3
END:DAYLIGHT
BEGIN:STANDARD
TZOFFSETFROM:+0200
TZOFFSETTO:+0100
TZNAME:CET
DTSTART:19701025T030000
RRULE:FREQ=YEARLY;BYDAY=-1SU;BYMONTH=10
END:STANDARD
END:VTIMEZONE
BEGIN:VEVENT
SUMMARY:Assemblea dei rappresentanti degli allievi
UID:https://losone.sm.edu.ti.ch/news/assemblea-dei-rappresentanti-degli-allievi-26/
LOCATION:
DTSTAMP:20260421T132500
DTSTART;TZID=Europe/Paris:20260421T132500
DTEND;TZID=Europe/Paris:20260421T132500
DESCRIPTION:L'Assemblea dei rappresentanti degli allievi è convocata per MA 21 aprile
2026 dalle ore 13:25 in Aula 312.
Sono convocati ...
Ordine del giorno
END:VEVENT
END:VCALENDAR